BEGIN:VCALENDAR
VERSION:2.0
PRODID:-// - ECPv6.15.20//NONSGML v1.0//EN
CALSCALE:GREGORIAN
METHOD:PUBLISH
X-ORIGINAL-URL:https://www.tourismlaos.org
X-WR-CALDESC:Events for 
REFRESH-INTERVAL;VALUE=DURATION:PT1H
X-Robots-Tag:noindex
X-PUBLISHED-TTL:PT1H
BEGIN:VTIMEZONE
TZID:Asia/Vientiane
BEGIN:STANDARD
TZOFFSETFROM:+0700
TZOFFSETTO:+0700
TZNAME:+07
DTSTART:20240101T000000
END:STANDARD
END:VTIMEZONE
BEGIN:VEVENT
DTSTART;VALUE=DATE:20250625
DTEND;VALUE=DATE:20250628
DTSTAMP:20260424T174732
CREATED:20250527T055616Z
LAST-MODIFIED:20250527T055616Z
UID:10124-1750809600-1751068799@www.tourismlaos.org
SUMMARY:Mekong Tourism Forum 2025
DESCRIPTION:Mekong Tourism Forum (MTF)\nThe Mekong Tourism Forum (MTF) is an annual event dedicated to the tourism industry in the Greater Mekong Sub-region. The event provides a cooperative platform for stakeholders in the tourism industry to discuss the development\, marketing\, and promotion of travel to\, from\, and within the Greater Mekong Subregion (GMS). It presents an inclusive\, interactive\, and results-oriented opportunity to encourage public and private sector participation in representing the GMS as a single destination. \nLink:Mekong Tourism Forum 2025
URL:https://www.tourismlaos.org/event/mekong-tourism-forum-2025/
CATEGORIES:Events & Festivals 2026
ATTACH;FMTTYPE=image/webp:https://www.tourismlaos.org/wp-content/uploads/2025/05/MTCO-logo-White-Color-2.webp
END:VEVENT
END:VCALENDAR