BEGIN:VCALENDAR
VERSION:2.0
PRODID:-// - ECPv6.15.20//NONSGML v1.0//EN
CALSCALE:GREGORIAN
METHOD:PUBLISH
X-ORIGINAL-URL:https://www.tourismlaos.org
X-WR-CALDESC:Events for 
REFRESH-INTERVAL;VALUE=DURATION:PT1H
X-Robots-Tag:noindex
X-PUBLISHED-TTL:PT1H
BEGIN:VTIMEZONE
TZID:Asia/Vientiane
BEGIN:STANDARD
TZOFFSETFROM:+0700
TZOFFSETTO:+0700
TZNAME:+07
DTSTART:20250101T000000
END:STANDARD
END:VTIMEZONE
BEGIN:VEVENT
DTSTART;VALUE=DATE:20260308
DTEND;VALUE=DATE:20260309
DTSTAMP:20260424T155610
CREATED:20260102T041904Z
LAST-MODIFIED:20260205T032630Z
UID:7679-1772928000-1773014399@www.tourismlaos.org
SUMMARY:National Women's Day
DESCRIPTION:
URL:https://www.tourismlaos.org/event/national-womens-day/
CATEGORIES:Events & Festivals 2026
END:VEVENT
BEGIN:VEVENT
DTSTART;VALUE=DATE:20260322
DTEND;VALUE=DATE:20260323
DTSTAMP:20260424T155610
CREATED:20260101T042020Z
LAST-MODIFIED:20260205T040741Z
UID:7682-1774137600-1774223999@www.tourismlaos.org
SUMMARY:Lao People's Revolution Party
DESCRIPTION:
URL:https://www.tourismlaos.org/event/lao-peoples-revolution-party/
CATEGORIES:Events & Festivals 2026
END:VEVENT
END:VCALENDAR