BEGIN:VCALENDAR
VERSION:2.0
PRODID:-// - ECPv6.15.20//NONSGML v1.0//EN
CALSCALE:GREGORIAN
METHOD:PUBLISH
X-ORIGINAL-URL:https://www.tourismlaos.org
X-WR-CALDESC:Events for 
REFRESH-INTERVAL;VALUE=DURATION:PT1H
X-Robots-Tag:noindex
X-PUBLISHED-TTL:PT1H
BEGIN:VTIMEZONE
TZID:Asia/Vientiane
BEGIN:STANDARD
TZOFFSETFROM:+0700
TZOFFSETTO:+0700
TZNAME:+07
DTSTART:20250101T000000
END:STANDARD
END:VTIMEZONE
BEGIN:VEVENT
DTSTART;VALUE=DATE:20260215
DTEND;VALUE=DATE:20260218
DTSTAMP:20260424T215244
CREATED:20260101T034358Z
LAST-MODIFIED:20260205T040409Z
UID:7649-1771113600-1771372799@www.tourismlaos.org
SUMMARY:Lunar New Year
DESCRIPTION:Chinese New Year\, or the Spring Festival (see also § Names)\, is a festival that celebrates the beginning of a new year on the traditional lunisolar Chinese calendar. Marking the end of winter and the beginning of spring\, this festival takes place from Chinese New Year’s Eve\, the evening preceding the first day of the year\, to the Lantern Festival\, held on the 15th day of the year. \n\nIn 2026\, the Chinese New Year (Spring Festival) begins on Tuesday\, February 17\, marking the start of the Year of the Fire Horse\, and concludes with the Lantern Festival on Tuesday\, March 3\, 2026. This 15-day celebration period includes a\, official holiday break in China\, typically from February 15 to 23\, 2026.  \n\n\nKey Details for the Period (Feb 17 – Mar 3\, 2026):\n\nNew Year’s Day: Feb 17\, 2026 (Year of the Fire Horse).\nLantern Festival: March 3\, 2026.\nOfficial Holiday: Feb 15–23\, 2026 (9 days\, with Feb 14 and 28 as potential working days).\nSign: Year of the Horse\, Element: Fire. \n\n\n\nCultural SignificanceThe period from Feb 17 to March 3 marks a major 15-day celebration focused on family reunions\, traditional meals\, wearing red for good luck\, and giving red envelopes (hongbao). The celebration\, known as the Spring Festival\, is the most significant holiday in China.
URL:https://www.tourismlaos.org/event/lunar-new-year/
CATEGORIES:Events & Festivals 2026
ATTACH;FMTTYPE=image/jpeg:https://www.tourismlaos.org/wp-content/uploads/2026/01/2026-chinese-new-year-of-the-fire-horse.jpg
END:VEVENT
END:VCALENDAR