BEGIN:VCALENDAR
VERSION:2.0
PRODID:-// - ECPv6.15.20//NONSGML v1.0//EN
CALSCALE:GREGORIAN
METHOD:PUBLISH
X-ORIGINAL-URL:https://www.tourismlaos.org
X-WR-CALDESC:Events for 
REFRESH-INTERVAL;VALUE=DURATION:PT1H
X-Robots-Tag:noindex
X-PUBLISHED-TTL:PT1H
BEGIN:VTIMEZONE
TZID:Asia/Vientiane
BEGIN:STANDARD
TZOFFSETFROM:+0700
TZOFFSETTO:+0700
TZNAME:+07
DTSTART:20250101T000000
END:STANDARD
END:VTIMEZONE
BEGIN:VEVENT
DTSTART;TZID=Asia/Vientiane:20260501T080000
DTEND;TZID=Asia/Vientiane:20260530T170000
DTSTAMP:20260420T183657
CREATED:20260101T053657Z
LAST-MODIFIED:20260205T035454Z
UID:7700-1777622400-1780160400@www.tourismlaos.org
SUMMARY:Boun Bang Fai (Rocket Festival)
DESCRIPTION:Boun Bang Fai is festival held to call for rain and celebrate fertility. The date of the festival is fixed by each province. During the festival\, there are a variety of fun activities\, particularly a traditional dance which is performed in a circle. Men will wear traditional Lao women’s clothes and cosmetics as people tie the clothes on each other. In the afternoon\, people take artificial elephant and horses walking around the host village. Afterwards\, people gather in the field on the outskirts of village and towns to launch self-made firework rocket. The village that is able to launch its rocket the highest up in the sky is the winner. The rocket competition is held in order to demonstrate appreciation to “Payathaen” (god Of Sky) who provides people with the rains necessary for agriculture. Throughout the celebrations\, hosts prepare a variety of traditional food for their guests.
URL:https://www.tourismlaos.org/event/boun-bang-fai-rocket-festival/
CATEGORIES:Events & Festivals 2026
ATTACH;FMTTYPE=image/png:https://www.tourismlaos.org/wp-content/uploads/2022/03/Screen-Shot-2022-03-30-at-17.25.55.png
END:VEVENT
BEGIN:VEVENT
DTSTART;VALUE=DATE:20260502
DTEND;VALUE=DATE:20260503
DTSTAMP:20260420T183657
CREATED:20260101T053235Z
LAST-MODIFIED:20260205T035341Z
UID:7694-1777680000-1777766399@www.tourismlaos.org
SUMMARY:Boun Visakhaboucha
DESCRIPTION:Boun Visakhaboucha is a meaningful milestone in Buddhist calendar\, because is mark the Lord Buddha’s birth\, enlightenment and death. Devout Buddhists will rise early to make merit at temples. In some temples\, Buddhists will perform Wien Tien (Candlelight procession) in the evening\, which includes carrying candles\, incense and lotus flowers and walking clockwise for three times around the sim\, or main sermon or prayer hall.
URL:https://www.tourismlaos.org/event/boun-visakhaboucha/
CATEGORIES:Events & Festivals 2026
ATTACH;FMTTYPE=image/jpeg:https://www.tourismlaos.org/wp-content/uploads/2022/11/BounVisakhabucha.jpg
END:VEVENT
END:VCALENDAR