BEGIN:VCALENDAR
VERSION:2.0
PRODID:-// - ECPv6.15.20//NONSGML v1.0//EN
CALSCALE:GREGORIAN
METHOD:PUBLISH
X-ORIGINAL-URL:https://www.tourismlaos.org
X-WR-CALDESC:Events for 
REFRESH-INTERVAL;VALUE=DURATION:PT1H
X-Robots-Tag:noindex
X-PUBLISHED-TTL:PT1H
BEGIN:VTIMEZONE
TZID:Asia/Vientiane
BEGIN:STANDARD
TZOFFSETFROM:+0700
TZOFFSETTO:+0700
TZNAME:+07
DTSTART:20250101T000000
END:STANDARD
END:VTIMEZONE
BEGIN:VEVENT
DTSTART;VALUE=DATE:20260729
DTEND;VALUE=DATE:20260730
DTSTAMP:20260425T050106
CREATED:20260101T054915Z
LAST-MODIFIED:20260205T034943Z
UID:7706-1785283200-1785369599@www.tourismlaos.org
SUMMARY:Asalahaboucha Day and Boun Khao Phansa Festival (Buddhist Lent)
DESCRIPTION:Boun Khao Phansa is held at the beginning of the Buddhist lent. Over the following three month\, monks spend most of their time in prayer and meditation and are restricted from spending nights in other temples out of their own. Many devout people often abstain from alcohol during this time. In the early morning of Boun Khao Phansa\, people prepare donations of food\, especially “Khao Tom” (cooked sticky rice wrapped in banana leave) and necessities like soap\, toothpaste\, toothbrushes and towels for the monks. Most temples are busy during this time with people making merit and giving their donations. At the end of these merit making activities\, the monks will recite the teaching of Buddha and tell the history of the Buddhist Lent to temples-goers. Later in the evening\, monks\, novices cannot leave their monasteries to become lay-people and traditionally lay-people are not allowed to get married until the end of the Buddhist Lent or Ork Phansa.
URL:https://www.tourismlaos.org/event/asalahaboucha-day-and-boun-khao-phansa-festival-buddhist-lent-2/
CATEGORIES:Events & Festivals 2026
ATTACH;FMTTYPE=image/jpeg:https://www.tourismlaos.org/wp-content/uploads/2019/12/monks-1822569_1280.jpg
END:VEVENT
END:VCALENDAR