BEGIN:VCALENDAR
VERSION:2.0
PRODID:-// - ECPv6.15.20//NONSGML v1.0//EN
CALSCALE:GREGORIAN
METHOD:PUBLISH
X-ORIGINAL-URL:https://www.tourismlaos.org
X-WR-CALDESC:Events for 
REFRESH-INTERVAL;VALUE=DURATION:PT1H
X-Robots-Tag:noindex
X-PUBLISHED-TTL:PT1H
BEGIN:VTIMEZONE
TZID:Asia/Vientiane
BEGIN:STANDARD
TZOFFSETFROM:+0700
TZOFFSETTO:+0700
TZNAME:+07
DTSTART:20230101T000000
END:STANDARD
END:VTIMEZONE
BEGIN:VEVENT
DTSTART;TZID=Asia/Vientiane:20250201T080000
DTEND;TZID=Asia/Vientiane:20250201T170000
DTSTAMP:20260420T200007
CREATED:20250106T034542Z
LAST-MODIFIED:20250106T034542Z
UID:7652-1738396800-1738429200@www.tourismlaos.org
SUMMARY:Lao Trade Union
DESCRIPTION:
URL:https://www.tourismlaos.org/event/lao-trade-union/
CATEGORIES:Events & Festivals 2026
END:VEVENT
BEGIN:VEVENT
DTSTART;VALUE=DATE:20250127
DTEND;VALUE=DATE:20250203
DTSTAMP:20260420T200007
CREATED:20250109T074334Z
LAST-MODIFIED:20250109T074334Z
UID:7743-1737936000-1738540799@www.tourismlaos.org
SUMMARY:Kapok Flower Festival in Bokeo Province
DESCRIPTION:
URL:https://www.tourismlaos.org/event/kapok-flower-festival-in-bokeo-province/
CATEGORIES:Events & Festivals 2026
ATTACH;FMTTYPE=image/jpeg:https://www.tourismlaos.org/wp-content/uploads/2025/01/images.jpeg
END:VEVENT
BEGIN:VEVENT
DTSTART;VALUE=DATE:20250120
DTEND;VALUE=DATE:20250121
DTSTAMP:20260420T200007
CREATED:20250106T033730Z
LAST-MODIFIED:20250106T033730Z
UID:7646-1737331200-1737417599@www.tourismlaos.org
SUMMARY:National Military's Day
DESCRIPTION:
URL:https://www.tourismlaos.org/event/national-militarys-day/
CATEGORIES:Events & Festivals 2026
END:VEVENT
BEGIN:VEVENT
DTSTART;VALUE=DATE:20250110
DTEND;VALUE=DATE:20250113
DTSTAMP:20260420T200007
CREATED:20250106T041734Z
LAST-MODIFIED:20250328T143402Z
UID:7671-1736467200-1736726399@www.tourismlaos.org
SUMMARY:Boun Phabath Phonesan Stupa Festival
DESCRIPTION:This is the most significant event of Bolikhamxay Province when they celebrate the old stupa and give respect to Buddha’s footprint in Thaphabath District. The festival is held over three to seven days during the full moon of the second lunar month (January). The festival includes a Buddhist ceremony\, trade fairs\, concert and fun fairs arranged around the grounds of the stupa.
URL:https://www.tourismlaos.org/event/boun-phabath-phonesan-stupa-festival/
CATEGORIES:Events & Festivals 2026
ATTACH;FMTTYPE=image/webp:https://www.tourismlaos.org/wp-content/uploads/2025/01/Phabath-ວັດພະບາດ-2-scaled-1.webp
END:VEVENT
BEGIN:VEVENT
DTSTART;VALUE=DATE:20250101
DTEND;VALUE=DATE:20250102
DTSTAMP:20260420T200007
CREATED:20250106T033608Z
LAST-MODIFIED:20250106T033608Z
UID:7642-1735689600-1735775999@www.tourismlaos.org
SUMMARY:International New Year 2025
DESCRIPTION:
URL:https://www.tourismlaos.org/event/international-new-year-2025/
CATEGORIES:Events & Festivals 2026
ATTACH;FMTTYPE=image/jpeg:https://www.tourismlaos.org/wp-content/uploads/2025/01/WhatsApp-Image-2025-01-01-at-01.58.23.jpeg
END:VEVENT
BEGIN:VEVENT
DTSTART;VALUE=DATE:20241220
DTEND;VALUE=DATE:20241221
DTSTAMP:20260420T200007
CREATED:20231206T062802Z
LAST-MODIFIED:20231220T030737Z
UID:5672-1734652800-1734739199@www.tourismlaos.org
SUMMARY:That Ing Hang Festival in Savannakhet Province
DESCRIPTION:The ritual ceremony is performed annually at the Pha That Ing Hang (Ing Hang Stupa)\, one of the most sacred stupas in Savannakhet Province and in Central Lao. In December people organize a festival to show their respect to Buddhism and to the people who built this stupa. Many people including the old and young come to the festival from south and north of Lao as well as from Thailand. People make offerings of Khanmarkbeng (a small green tower-like offering\, which has good made of banana leaves and flowers) around the stupa. People also ask nuns who are around the stupa for blessings. The nuns give blessing to people by tying cotton strings around their wrists. Local people bring forest products like honey and traditional food as offerings.
URL:https://www.tourismlaos.org/event/that-ing-hang-festival-in-savannakhet-province/
ATTACH;FMTTYPE=image/jpeg:https://www.tourismlaos.org/wp-content/uploads/2019/12/that-ing-hang2.jpg
END:VEVENT
BEGIN:VEVENT
DTSTART;VALUE=DATE:20241119
DTEND;VALUE=DATE:20241124
DTSTAMP:20260420T200007
CREATED:20231116T090438Z
LAST-MODIFIED:20231221T044246Z
UID:5552-1731974400-1732406399@www.tourismlaos.org
SUMMARY:Buddhist Scriptures (Hor Thri Pidok) Ceremony in Salavanh Province
DESCRIPTION:
URL:https://www.tourismlaos.org/event/buddhist-scriptures-hor-thri-pidok-ceremony-in-salavanh-province/
CATEGORIES:National Events & Festivals of Visit Laos Year 2024
END:VEVENT
BEGIN:VEVENT
DTSTART;VALUE=DATE:20241114
DTEND;VALUE=DATE:20241115
DTSTAMP:20260420T200007
CREATED:20231116T092026Z
LAST-MODIFIED:20231221T044322Z
UID:5570-1731542400-1731628799@www.tourismlaos.org
SUMMARY:One day trekking at Phou Hee Pee Protection Area
DESCRIPTION:
URL:https://www.tourismlaos.org/event/one-day-trekking-at-phou-hee-pee-protection-area/
CATEGORIES:Provincial Events & Festivals of Visit Laos Year 2024
END:VEVENT
BEGIN:VEVENT
DTSTART;VALUE=DATE:20241111
DTEND;VALUE=DATE:20241116
DTSTAMP:20260420T200007
CREATED:20231206T065026Z
LAST-MODIFIED:20231221T044357Z
UID:5677-1731283200-1731715199@www.tourismlaos.org
SUMMARY:That Luang Festival in Vientiane Capital
DESCRIPTION:Boun Pha That Luang is the most meaningful festival in Vientiane Capital as well as in the Lao PDR. It is held over three to seven days during the full moon of the twenty-fifth lunar month (November\, but sometimes it is at the end of October). The festival starts with a colorful candlelight wax castle (Phasat Pheung) procession which starts the evening before at Vat Simeuang. The procession continues to the next afternoon from Vat Simeuang to Pha That Luang. People carry flowers\, candles\, incense and wax castles decorated with flowers and bank notes. People wear their best clothes for this procession and there is also a parade of the men and women dressed in various Loa ethnic costumes who dance and play traditional music and songs while approaching the stupa. The s-called wax castles have been a part of Lao lifestyle for many years\, and bringing one to Pha that Luang on this occasion is believed to bring considerable merit. \nThe following morning\, a huge crowd assembles at dawn at Pha That Luang to give alms to hundreds of monks who come here from around the country\, and to play homage to the stupa. In the afternoon\, everyone will gather on the esplanade for the traditional game of Ti Khee\, which is played with a ball and long curved stick\, resembling a game of hockey. The festival draws to close under a full moon when people from all over Laos will crowd around Pha That Luang for one last candlelight procession. There are also fire work displays to make the end of the celebration. During the Pha That Luang stupa festival\, there are trade fairs\, concerts and fun fairs held.
URL:https://www.tourismlaos.org/event/that-luang-festival-in-vientiane-capital/
CATEGORIES:National Events & Festivals of Visit Laos Year 2024
ATTACH;FMTTYPE=image/jpeg:https://www.tourismlaos.org/wp-content/uploads/2022/08/Vientiane-That-Luang-Festival12-scaled.jpg
END:VEVENT
BEGIN:VEVENT
DTSTART;VALUE=DATE:20241029
DTEND;VALUE=DATE:20241101
DTSTAMP:20260420T200007
CREATED:20231116T092948Z
LAST-MODIFIED:20231221T044652Z
UID:5582-1730160000-1730419199@www.tourismlaos.org
SUMMARY:Boat Racing Festival in Luang Namtha Province
DESCRIPTION:
URL:https://www.tourismlaos.org/event/boat-racing-festival-in-luang-namtha-province/
CATEGORIES:Provincial Events & Festivals of Visit Laos Year 2024
END:VEVENT
BEGIN:VEVENT
DTSTART;VALUE=DATE:20241021
DTEND;VALUE=DATE:20241022
DTSTAMP:20260420T200007
CREATED:20231116T093407Z
LAST-MODIFIED:20231221T044730Z
UID:5591-1729468800-1729555199@www.tourismlaos.org
SUMMARY:Luang Prabang Culture-Tourism Week in Luang Prabang Province
DESCRIPTION:
URL:https://www.tourismlaos.org/event/luang-prabang-culture-tourism-week-in-luang-prabang-province/
CATEGORIES:Provincial Events & Festivals of Visit Laos Year 2024
END:VEVENT
BEGIN:VEVENT
DTSTART;VALUE=DATE:20241017
DTEND;VALUE=DATE:20241018
DTSTAMP:20260420T200007
CREATED:20231206T081623Z
LAST-MODIFIED:20231206T081623Z
UID:5700-1729123200-1729209599@www.tourismlaos.org
SUMMARY:Boun Ork Phansa (The end of buddhist lent)
DESCRIPTION:Boun Ork Phansa is the last day of Buddhist Lent. It occurs on the 15th day of the 11th month of the lunar calendar. In the morning\, donations and offering are made at temples around the country. In the evening candlelight processions are held around the temples while hundreds around of colorful floats decorated with flowers\, incense and candles are set adrift down and rivers giving thanks to the river spirit (Lai Heua Fai). They are said to pay respect to the Buddha and to thank the mother of rivers for providing water for our lives as well as to ask for blessing and to float the bad luck for the past year away\, enabling the good luck to flow in. Villagers who live far from rivers set up model boat made of banana stems and decorated with flowers and candlelight\, while other simply light up some candles in front of their houses and do their prayer\, wishing for good luck. This colorful ritual has been carried on by Lao people for thousands of years. \n Add to calendar\nDetails\nDate:\nOctober 29
URL:https://www.tourismlaos.org/event/boun-ork-phansa-the-end-of-buddhist-lent-2/
ATTACH;FMTTYPE=image/jpeg:https://www.tourismlaos.org/wp-content/uploads/2022/03/126.ຕັກບາດຕອນເຊົ້າແຂວງຫລວງພະບາງ-copy.jpg
END:VEVENT
BEGIN:VEVENT
DTSTART;VALUE=DATE:20241017
DTEND;VALUE=DATE:20241018
DTSTAMP:20260420T200007
CREATED:20231206T081358Z
LAST-MODIFIED:20231221T044823Z
UID:5697-1729123200-1729209599@www.tourismlaos.org
SUMMARY:Naga Rocket in Bolikhamxay Province
DESCRIPTION:The fireballs coming out from the water’s surface can be seen once a year on the last night of the Lao Buddhist Lent. The Naga Rockets can be spotted where the Nam Ngum and the Mekong river meet in Thaprabath District\, Bolikhamxay Province\, as well as in Pak Ngum District\, 60 kilometers east of Vientiane.
URL:https://www.tourismlaos.org/event/naga-rocket-in-bolikhamxay-province-2/
CATEGORIES:Provincial Events & Festivals of Visit Laos Year 2024
ATTACH;FMTTYPE=image/jpeg:https://www.tourismlaos.org/wp-content/uploads/2019/12/that-luang-3.jpg
END:VEVENT
BEGIN:VEVENT
DTSTART;VALUE=DATE:20241017
DTEND;VALUE=DATE:20241018
DTSTAMP:20260420T200007
CREATED:20231206T060912Z
LAST-MODIFIED:20231221T044938Z
UID:5669-1729123200-1729209599@www.tourismlaos.org
SUMMARY:End of the buddhist Lent Days "Candle Light Festival" in Luang Prabang Province
DESCRIPTION:Boun Lai Heua Fai is a festival for the Phanang Naga which is held during Boun Xouang Heua in order to bring good luck. Each village in many provinces makes and decorates a boat. The boats are then paraded through the town\, at night they are lunched onto the river and ceremoniously set on fire as offerings to spirits. This festival involves floating the ritual flowers onto the river\, to send of bad luck and give thanks to the water spirits. When holding boat race\, people ritually reclaim the land from the Naga\, chasing them out from fields and streams and back into the Mekong River.
URL:https://www.tourismlaos.org/event/end-of-the-buddhist-lent-days-candle-light-festival-in-luang-prabang-province/
CATEGORIES:National Events & Festivals of Visit Laos Year 2024
ATTACH;FMTTYPE=image/jpeg:https://www.tourismlaos.org/wp-content/uploads/2023/09/Ork-Phan-Sa-696x423-1.jpg
END:VEVENT
BEGIN:VEVENT
DTSTART;VALUE=DATE:20240917
DTEND;VALUE=DATE:20240918
DTSTAMP:20260420T200007
CREATED:20231206T081024Z
LAST-MODIFIED:20231206T081024Z
UID:5694-1726531200-1726617599@www.tourismlaos.org
SUMMARY:Boun Khao Salak Ancestor Festival
DESCRIPTION:This festival occurs during the 10th full moon of the lunar calendar. The purpose of the festival is to obtain merit by providing offerings to dead ancestors. The offerings to the dead are passed to monks during the morning ceremony at the temple\, just after almsgiving. A basket is filled with food and daily amenities such as soap\, toothpaste\, toothbrushes\, toilet paper\, cigarettes\, etc. along with the names of the dead people the family wish to honor. The monks or novice the basket\, then draws the name\s from the basket. In the evening at 7pm to 8pm\, it is the for a candlelight procession (Wien Tien). Afterwards\, the candles\, incense the flowers are placed near the side of the Sim.
URL:https://www.tourismlaos.org/event/boun-khao-salak-ancestor-festival-2/
ATTACH;FMTTYPE=image/jpeg:https://www.tourismlaos.org/wp-content/uploads/2022/11/BounHorKhaoSalak.jpg
END:VEVENT
BEGIN:VEVENT
DTSTART;VALUE=DATE:20240902
DTEND;VALUE=DATE:20240903
DTSTAMP:20260420T200007
CREATED:20231206T080818Z
LAST-MODIFIED:20231221T045222Z
UID:5691-1725235200-1725321599@www.tourismlaos.org
SUMMARY:Boat Racing Festival in Luang Prabang
DESCRIPTION:At the Khao Padabdin ceremony day\, people visit local temples to make offerings to dead ancestors as well as to share merit-making. This festival includes boat racing on the Nam Khan River and a trade fair in Luang Prabang World Heritage town.
URL:https://www.tourismlaos.org/event/boat-racing-festival-in-luang-prabang-2/
CATEGORIES:Provincial Events & Festivals of Visit Laos Year 2024
ATTACH;FMTTYPE=image/jpeg:https://www.tourismlaos.org/wp-content/uploads/2019/12/boat-racing.jpg
END:VEVENT
BEGIN:VEVENT
DTSTART;VALUE=DATE:20240902
DTEND;VALUE=DATE:20240903
DTSTAMP:20260420T200007
CREATED:20231206T075812Z
LAST-MODIFIED:20231206T080230Z
UID:5687-1725235200-1725321599@www.tourismlaos.org
SUMMARY:Rice Growing Festival
DESCRIPTION:Boun Hor Khao Padabdin (the literal translation is decorate (padab) dirt\earth (din))starts in the middle of the rainy season. This festival is held in commemoration of dead ancestors. Over two days\, Buddhist devotees flock to the Vats (temples) carrying strays of offerings for monks and deceased ancestor. Music is traditionally performed in the grounds of the Vat while people make their donations. During Boun Khao Phansapadabdin\, each household cooks a number of “khao Tom” to give to relatives and friends and some are reserved for giving alms to the monks. In the early morning at 4am to 5am\, people place the “khao tom” and other food wrapped in banana leave or lotus leave in the four corners outside one’s house\, the stairs\, the spirit house\, the rice storehouse\, and on the gate\, as well as on the ground so that the sprit can reach them. It is also the time to shoe respect to “Mae Thoranii” (the Earth God).
URL:https://www.tourismlaos.org/event/ancestor-festival-day/
ATTACH;FMTTYPE=image/jpeg:https://www.tourismlaos.org/wp-content/uploads/2023/09/Khao-hor-padup-din-1-696x423-1.jpg
END:VEVENT
BEGIN:VEVENT
DTSTART;VALUE=DATE:20240720
DTEND;VALUE=DATE:20240721
DTSTAMP:20260420T200007
CREATED:20231206T075648Z
LAST-MODIFIED:20231206T075648Z
UID:5684-1721433600-1721519999@www.tourismlaos.org
SUMMARY:Buddhist Lent Festival
DESCRIPTION:Boun Khao Phansa is held at the beginning of the Buddhist lent. Over the following three month\, monks spend most of their time in prayer and meditation and are restricted from spending nights in other temples out of their own. Many devout people often abstain from alcohol during this time. In the early morning of Boun Khao Phansa\, people prepare donations of food\, especially “Khao Tom” (cooked sticky rice wrapped in banana leave) and necessities like soap\, toothpaste\, toothbrushes and towels for the monks. Most temples are busy during this time with people making merit and giving their donations. At the end of these merit making activities\, the monks will recite the teaching of Buddha and tell the history of the Buddhist Lent to temples-goers. Later in the evening\, monks\, novices cannot leave their monasteries to become lay-people and traditionally lay-people are not allowed to get married until the end of the Buddhist Lent or Ork Phansa.
URL:https://www.tourismlaos.org/event/buddhist-lent-festival/
ATTACH;FMTTYPE=image/jpeg:https://www.tourismlaos.org/wp-content/uploads/2023/09/Khao-Salak-696x423-1.jpg
END:VEVENT
BEGIN:VEVENT
DTSTART;VALUE=DATE:20240515
DTEND;VALUE=DATE:20240518
DTSTAMP:20260420T200007
CREATED:20231116T093952Z
LAST-MODIFIED:20231221T045358Z
UID:5600-1715731200-1715990399@www.tourismlaos.org
SUMMARY:"Miss Xam Neua Silk Contest\, City Pillar Celebration and Visiting Historical Cave" in Houaphanh Province
DESCRIPTION:
URL:https://www.tourismlaos.org/event/miss-xam-neua-silk-contest-city-pillar-celebration-and-visiting-historical-cave-in-houaphanh-province/
CATEGORIES:Provincial Events & Festivals of Visit Laos Year 2024
END:VEVENT
BEGIN:VEVENT
DTSTART;VALUE=DATE:20240414
DTEND;VALUE=DATE:20240417
DTSTAMP:20260420T200007
CREATED:20231116T094425Z
LAST-MODIFIED:20231221T045448Z
UID:5606-1713052800-1713311999@www.tourismlaos.org
SUMMARY:Lao New Year in Xieng Khouang Province
DESCRIPTION:
URL:https://www.tourismlaos.org/event/lao-new-year-in-xieng-khouang-province/
CATEGORIES:Provincial Events & Festivals of Visit Laos Year 2024
END:VEVENT
BEGIN:VEVENT
DTSTART;VALUE=DATE:20240413
DTEND;VALUE=DATE:20240416
DTSTAMP:20260420T200007
CREATED:20231116T093810Z
LAST-MODIFIED:20231221T045657Z
UID:5597-1712966400-1713225599@www.tourismlaos.org
SUMMARY:City Pillar Festival & Miss Attapeu Contest in Attapeu Province
DESCRIPTION:
URL:https://www.tourismlaos.org/event/city-pillar-festival-miss-attapeu-contest-in-attapeu-province/
CATEGORIES:Provincial Events & Festivals of Visit Laos Year 2024
END:VEVENT
BEGIN:VEVENT
DTSTART;VALUE=DATE:20240411
DTEND;VALUE=DATE:20240421
DTSTAMP:20260420T200007
CREATED:20231116T085535Z
LAST-MODIFIED:20231221T045732Z
UID:5545-1712793600-1713657599@www.tourismlaos.org
SUMMARY:Lao New Year Festival in Luang Prabang
DESCRIPTION:Lao New Year begins at the same time each year and lasts for three days (April 14th-16th). It is one of the most important dates in the calendar as well as being a time of celebrate and endless fun. The festival is held before the onset of the rainy season to recognize the importance of water in people’s lives. It has also become synonymous with holiday\, the celebration of Lao identity\, the reinforcement of family bonds and an opportunity to reflect on the year ahead. Lao New Year celebrate in all Provinces\, especially in Luang Prabang Province and Vientiane Capital. It is also a purification festival during which the Buddhist images in the household and the temples are ritually cleaned with sacred water. \nThe first day (14th) is the last day of the old year. House and villages are properly cleaned on the first day. Perfume\, water and flowers are also prepared for the Lao New Year. Buddhist images are taken out of the temples to be cleaned with scented water by devotees\, and placed on special temporary altars within the compounds of Vats (temples). Devotees gather the scented water falling of the images to take home and use it to pour on friends and relatives\, as an act of cleansing and purification before entering the New Year. The second day (15th) of the festival is the “day of no day”\, a day that falls in neither the old year nor the New Year. The last day (16th) of the festival marks the start of the New Year. In the evening of the 16th\, the images are returned to their proper shrines within the temples. Throughout the three days of the festival\, a lot of meaningful and joyful activities are held nationwide\, mainly basic or Soo Kwan (tying cotton strings around people’s wrists)\, water splashing\, sand stupa building and a beauty pageant.
URL:https://www.tourismlaos.org/event/lao-new-year-festival-in-luang-prabang/
CATEGORIES:National Events & Festivals of Visit Laos Year 2024
END:VEVENT
BEGIN:VEVENT
DTSTART;VALUE=DATE:20240401
DTEND;VALUE=DATE:20240402
DTSTAMP:20260420T200007
CREATED:20231116T092838Z
LAST-MODIFIED:20231221T045602Z
UID:5579-1711929600-1712015999@www.tourismlaos.org
SUMMARY:Napong Chicken Grill and Lao Khao Mouang Khong in Salavanh Province
DESCRIPTION:
URL:https://www.tourismlaos.org/event/napong-chicken-grill-and-lao-khao-mouang-khong-in-salavanh-province/
CATEGORIES:Provincial Events & Festivals of Visit Laos Year 2024
END:VEVENT
BEGIN:VEVENT
DTSTART;VALUE=DATE:20240321
DTEND;VALUE=DATE:20240322
DTSTAMP:20260420T200007
CREATED:20231116T090851Z
LAST-MODIFIED:20231221T055527Z
UID:5555-1710979200-1711065599@www.tourismlaos.org
SUMMARY:"Commemorating the events of March 21\, 1946" in Khammouane Province
DESCRIPTION:
URL:https://www.tourismlaos.org/event/commemorating-the-events-of-march-21-1946-in-khammouane-province/
CATEGORIES:Provincial Events & Festivals of Visit Laos Year 2024
END:VEVENT
BEGIN:VEVENT
DTSTART;VALUE=DATE:20240306
DTEND;VALUE=DATE:20240307
DTSTAMP:20260420T200007
CREATED:20231116T093553Z
LAST-MODIFIED:20231221T055606Z
UID:5594-1709683200-1709769599@www.tourismlaos.org
SUMMARY:40 Year Anniversary of Bolikhamxay Province & Ethnic Tribe Festival in Bolikhamxay Province
DESCRIPTION:
URL:https://www.tourismlaos.org/event/40-year-anniversary-of-bolikhamxay-province-ethnic-tribe-festival-in-bolikhamxay-province/
CATEGORIES:Provincial Events & Festivals of Visit Laos Year 2024
END:VEVENT
BEGIN:VEVENT
DTSTART;VALUE=DATE:20240305
DTEND;VALUE=DATE:20240306
DTSTAMP:20260420T200007
CREATED:20231116T093254Z
LAST-MODIFIED:20231221T043606Z
UID:5588-1709596800-1709683199@www.tourismlaos.org
SUMMARY:Ka Tu Festival in Sekong Province
DESCRIPTION:
URL:https://www.tourismlaos.org/event/ka-tu-festival-in-sekong-province/
CATEGORIES:Provincial Events & Festivals of Visit Laos Year 2024
END:VEVENT
BEGIN:VEVENT
DTSTART;VALUE=DATE:20240228
DTEND;VALUE=DATE:20240301
DTSTAMP:20260420T200007
CREATED:20231116T091854Z
LAST-MODIFIED:20231221T044158Z
UID:5567-1709078400-1709251199@www.tourismlaos.org
SUMMARY:Caravan to Phou Ya Kha in Oudomxay Province
DESCRIPTION:
URL:https://www.tourismlaos.org/event/caravan-to-phou-ya-kha-in-oudomxay-province/
CATEGORIES:Provincial Events & Festivals of Visit Laos Year 2024
END:VEVENT
BEGIN:VEVENT
DTSTART;VALUE=DATE:20240223
DTEND;VALUE=DATE:20240228
DTSTAMP:20260420T200007
CREATED:20231116T094314Z
LAST-MODIFIED:20231221T061311Z
UID:5603-1708646400-1709078399@www.tourismlaos.org
SUMMARY:Lao Food Festival in Vientiane Capital
DESCRIPTION:
URL:https://www.tourismlaos.org/event/lao-food-festival-in-vientiane-capital/
CATEGORIES:Provincial Events & Festivals of Visit Laos Year 2024
END:VEVENT
BEGIN:VEVENT
DTSTART;VALUE=DATE:20240222
DTEND;VALUE=DATE:20240225
DTSTAMP:20260420T200007
CREATED:20231206T055441Z
LAST-MODIFIED:20231221T055652Z
UID:5663-1708560000-1708819199@www.tourismlaos.org
SUMMARY:Sikhottabong Stupa Festival in Khammouane Province
DESCRIPTION:Sikhottabong Stupa festival is held annually during the full moon in February and it is celebrated over several days. People of north eastern Thailand\, Nakhorn Phnom\, and nearby provinces come and gather for stupa worshipping and entertainment. During the festival\, there are religious activities along with a local trade fair and performances held around the stupa.
URL:https://www.tourismlaos.org/event/sikhottabong-stupa-festival-in-khammouane-province/
CATEGORIES:National Events & Festivals of Visit Laos Year 2024
ATTACH;FMTTYPE=image/jpeg:https://www.tourismlaos.org/wp-content/uploads/2023/12/82428894_3146419728720668_6758680598501392384_n-845x321-1.jpg
END:VEVENT
BEGIN:VEVENT
DTSTART;VALUE=DATE:20240222
DTEND;VALUE=DATE:20240225
DTSTAMP:20260420T200007
CREATED:20231116T092708Z
LAST-MODIFIED:20231221T055725Z
UID:5575-1708560000-1708819199@www.tourismlaos.org
SUMMARY:Na Dou Buddha Foot Print Festival in Salavanh Province
DESCRIPTION:
URL:https://www.tourismlaos.org/event/na-dou-buddha-foot-print-festival-in-salavanh-province/
CATEGORIES:Provincial Events & Festivals of Visit Laos Year 2024
END:VEVENT
END:VCALENDAR