BEGIN:VCALENDAR
VERSION:2.0
PRODID:-// - ECPv6.15.20//NONSGML v1.0//EN
CALSCALE:GREGORIAN
METHOD:PUBLISH
X-ORIGINAL-URL:https://www.tourismlaos.org
X-WR-CALDESC:Events for 
REFRESH-INTERVAL;VALUE=DURATION:PT1H
X-Robots-Tag:noindex
X-PUBLISHED-TTL:PT1H
BEGIN:VTIMEZONE
TZID:Asia/Vientiane
BEGIN:STANDARD
TZOFFSETFROM:+0700
TZOFFSETTO:+0700
TZNAME:+07
DTSTART:20240101T000000
END:STANDARD
END:VTIMEZONE
BEGIN:VEVENT
DTSTART;VALUE=DATE:20250127
DTEND;VALUE=DATE:20250203
DTSTAMP:20260420T152022
CREATED:20250109T074334Z
LAST-MODIFIED:20250109T074334Z
UID:7743-1737936000-1738540799@www.tourismlaos.org
SUMMARY:Kapok Flower Festival in Bokeo Province
DESCRIPTION:
URL:https://www.tourismlaos.org/event/kapok-flower-festival-in-bokeo-province/
CATEGORIES:Events & Festivals 2026
ATTACH;FMTTYPE=image/jpeg:https://www.tourismlaos.org/wp-content/uploads/2025/01/images.jpeg
END:VEVENT
BEGIN:VEVENT
DTSTART;TZID=Asia/Vientiane:20250201T080000
DTEND;TZID=Asia/Vientiane:20250201T170000
DTSTAMP:20260420T152022
CREATED:20250106T034542Z
LAST-MODIFIED:20250106T034542Z
UID:7652-1738396800-1738429200@www.tourismlaos.org
SUMMARY:Lao Trade Union
DESCRIPTION:
URL:https://www.tourismlaos.org/event/lao-trade-union/
CATEGORIES:Events & Festivals 2026
END:VEVENT
BEGIN:VEVENT
DTSTART;VALUE=DATE:20250208
DTEND;VALUE=DATE:20250211
DTSTAMP:20260420T152022
CREATED:20250207T010806Z
LAST-MODIFIED:20250207T010806Z
UID:8422-1738972800-1739231999@www.tourismlaos.org
SUMMARY:Bolaven Plateau Coffee-Tea and Agricultural Products Festival 2025 in Champasack Province
DESCRIPTION:Our official festival poster is here! We’re thrilled to welcome our partners and sponsors on board for this year the Bolaven Plateau Coffee\, Tea & Agricultural Products Festival 2025 \n 8-10 February 2025\n Seethon Kommadam Monument\, Paksong\, Champasack Province\nActivities include:\n Exhibition & product sales booths – featuring a variety of coffee\, tea\, locally grown fruits & vegetables\, and agro-based products\n 8 Feb – Exclusive coffee tasting with local farmers\n Southern Laos’ biggest drip battle!\n Games & mini concerts for all to enjoy
URL:https://www.tourismlaos.org/event/bolaven-plateau-coffee-tea-and-agricultural-products-festival-2025-in-champasack-province/
CATEGORIES:Events & Festivals 2026
END:VEVENT
BEGIN:VEVENT
DTSTART;VALUE=DATE:20250209
DTEND;VALUE=DATE:20250213
DTSTAMP:20260420T152022
CREATED:20250106T040229Z
LAST-MODIFIED:20250106T041017Z
UID:7656-1739059200-1739404799@www.tourismlaos.org
SUMMARY:Vat Phou Festival
DESCRIPTION:This is the largest festival in Champasack Province and one of the largest festivals in the entire country. It is held annually on the grounds of the enchanting pre-Angkorian remains of Vat Phou in Champasack. This festival attracts thousands of people each year\, who come for prayer ceremonies and to enjoy the festivities. There is elephant racing\, buffalo fighting\, cock fighting and performances of Lao traditional music and dances. There is also a trade fair showcasing the products from the southern provinces of Laos\, and from the neighbouring countries of Thailand\, Cambodia and Vietnam.
URL:https://www.tourismlaos.org/event/vat-phou-festival-2/
CATEGORIES:Events & Festivals 2026
ATTACH;FMTTYPE=image/jpeg:https://www.tourismlaos.org/wp-content/uploads/2025/01/WhatsApp-Image-2023-12-26-at-14.46.20.jpeg
END:VEVENT
BEGIN:VEVENT
DTSTART;VALUE=DATE:20250209
DTEND;VALUE=DATE:20250213
DTSTAMP:20260420T152022
CREATED:20250106T040912Z
LAST-MODIFIED:20250106T040912Z
UID:7661-1739059200-1739404799@www.tourismlaos.org
SUMMARY:Boun Pha That Sikhottabong Stupa Festival
DESCRIPTION:Sikhottabong Stupa festival is held annually during the full moon in February and it is celebrated over several days. People of north eastern Thailand\, Nakhorn Phnom\, and nearby provinces come and gather for stupa worshipping and entertainment. During the festival\, there are religious activities along with a local trade fair and performances held around the stupa.
URL:https://www.tourismlaos.org/event/boun-pha-that-sikhottabong-stupa-festival/
CATEGORIES:Events & Festivals 2026
ATTACH;FMTTYPE=image/jpeg:https://www.tourismlaos.org/wp-content/uploads/2025/01/WhatsApp-Image-2024-01-16-at-14.21.07.jpeg
END:VEVENT
BEGIN:VEVENT
DTSTART;VALUE=DATE:20250212
DTEND;VALUE=DATE:20250213
DTSTAMP:20260420T152022
CREATED:20250106T041156Z
LAST-MODIFIED:20250106T041156Z
UID:7666-1739318400-1739404799@www.tourismlaos.org
SUMMARY:Boun Khao Chi (Makhaboucha)
DESCRIPTION:Boun Khoa Chi is one of the most important Buddhist Festival celebrate on the full moon day of the lunar month in Laos. A ceremony is held throughout the country at the vat(temple) in the morning when a special ‘bread’ made of sticky rice\, coated with egg and then grilled\, is made and offered to the monks. In the evening\, temple are full of the people listening to sermons. They often perform a ritual activity known as Wien Tien\, or the candlelight procession ceremony\, where they walk clockwise for three times around the main sermon or player hall with candle\, incense and flower. The spiritual aims of the day are not to commit any kind of sins; do only good things;   and purify one’s mind. It is an occasion when Buddhist tent to go to the temple to perform merit-making activities.
URL:https://www.tourismlaos.org/event/boun-khao-chi-makhaboucha/
END:VEVENT
END:VCALENDAR